BEGIN:VCALENDAR
VERSION:2.0
PRODID:-//JFS Dallas - ECPv6.15.18//NONSGML v1.0//EN
CALSCALE:GREGORIAN
METHOD:PUBLISH
X-WR-CALNAME:JFS Dallas
X-ORIGINAL-URL:https://jfsdallas.org
X-WR-CALDESC:Events for JFS Dallas
REFRESH-INTERVAL;VALUE=DURATION:PT1H
X-Robots-Tag:noindex
X-PUBLISHED-TTL:PT1H
BEGIN:VTIMEZONE
TZID:America/Chicago
BEGIN:DAYLIGHT
TZOFFSETFROM:-0600
TZOFFSETTO:-0500
TZNAME:CDT
DTSTART:20250309T080000
END:DAYLIGHT
BEGIN:STANDARD
TZOFFSETFROM:-0500
TZOFFSETTO:-0600
TZNAME:CST
DTSTART:20251102T070000
END:STANDARD
BEGIN:DAYLIGHT
TZOFFSETFROM:-0600
TZOFFSETTO:-0500
TZNAME:CDT
DTSTART:20260308T080000
END:DAYLIGHT
BEGIN:STANDARD
TZOFFSETFROM:-0500
TZOFFSETTO:-0600
TZNAME:CST
DTSTART:20261101T070000
END:STANDARD
BEGIN:DAYLIGHT
TZOFFSETFROM:-0600
TZOFFSETTO:-0500
TZNAME:CDT
DTSTART:20270314T080000
END:DAYLIGHT
BEGIN:STANDARD
TZOFFSETFROM:-0500
TZOFFSETTO:-0600
TZNAME:CST
DTSTART:20271107T070000
END:STANDARD
END:VTIMEZONE
BEGIN:VEVENT
DTSTART;TZID=America/Chicago:20260604T183000
DTEND;TZID=America/Chicago:20260604T200000
DTSTAMP:20260419T123056
CREATED:20260417T141538Z
LAST-MODIFIED:20260417T143610Z
UID:10001930-1780597800-1780603200@jfsdallas.org
SUMMARY:Annual JFS Dallas Community Impact Celebration
DESCRIPTION:Celebrate the amazing work our community has  done this year!\n\nCelebrate the amazing work our community has done this year! \nJoin us for the Annual JFS Dallas Community Impact Celebration! \nWe are bringing our Annual Meeting and Volunteer Appreciation together into one big event celebrating our community. \n  \nTogether\, we’ll reflect on the impact we’ve made over the past year\, share updates about JFS Dallas and our new campus\, and install the newest board members. Most importantly\, we’ll recognize and celebrate the incredible volunteers whose dedication makes our work possible every single day. \n  \n✨ Exciting announcements are coming soon!\nWe’ll be honoring outstanding volunteers during the event. RSVP today to be the first to hear and celebrate them. \n  \nEvent Details: \n\nNo cost to attend\nOpen to all ages\nLight refreshments\, including soft drinks\, hors d’oeuvres\, and desserts will be served (kosher dairy)\n\nTribute Opportunity:\nYou will have the option to make an $18+ tribute donation in honor of a volunteer\, staff member\, board member\, or someone special in the community. When you submit a tribute\, you’ll have the opportunity to include a personalized message\, which will be displayed on screen during the event. \n  \nIf you wish to submit multiple tributes\, please complete the order form separately for each submission. \nYou do not need to be present at the event to submit a tribute. \n  \nCome celebrate\, connect\, and be inspired… we can’t wait to see you there!
URL:https://jfsdallas.org/event/annual-jfs-dallas-community-impact-celebration/
LOCATION:Congregation Shearith Israel\, 9401 Douglas Ave\, Dallas\, TX\, 75225\, United States
ATTACH;FMTTYPE=image/jpeg:https://jfsdallas.org/wp-content/uploads/2026/04/7707b2ee1d4e0933556b537573edc250-962Ie4.tmp_.jpg
END:VEVENT
END:VCALENDAR